BEGIN:VCALENDAR
VERSION:2.0
PRODID:-//Port Credit Hockey Association - ECPv6.15.20//NONSGML v1.0//EN
CALSCALE:GREGORIAN
METHOD:PUBLISH
X-ORIGINAL-URL:https://portcredithockey.com
X-WR-CALDESC:Events for Port Credit Hockey Association
REFRESH-INTERVAL;VALUE=DURATION:PT1H
X-Robots-Tag:noindex
X-PUBLISHED-TTL:PT1H
BEGIN:VTIMEZONE
TZID:America/Toronto
BEGIN:DAYLIGHT
TZOFFSETFROM:-0500
TZOFFSETTO:-0400
TZNAME:EDT
DTSTART:20250309T070000
END:DAYLIGHT
BEGIN:STANDARD
TZOFFSETFROM:-0400
TZOFFSETTO:-0500
TZNAME:EST
DTSTART:20251102T060000
END:STANDARD
BEGIN:DAYLIGHT
TZOFFSETFROM:-0500
TZOFFSETTO:-0400
TZNAME:EDT
DTSTART:20260308T070000
END:DAYLIGHT
BEGIN:STANDARD
TZOFFSETFROM:-0400
TZOFFSETTO:-0500
TZNAME:EST
DTSTART:20261101T060000
END:STANDARD
BEGIN:DAYLIGHT
TZOFFSETFROM:-0500
TZOFFSETTO:-0400
TZNAME:EDT
DTSTART:20270314T070000
END:DAYLIGHT
BEGIN:STANDARD
TZOFFSETFROM:-0400
TZOFFSETTO:-0500
TZNAME:EST
DTSTART:20271107T060000
END:STANDARD
END:VTIMEZONE
BEGIN:VEVENT
DTSTART;TZID=America/Toronto:20260307T074500
DTEND;TZID=America/Toronto:20260307T083000
DTSTAMP:20260422T144338
CREATED:20260211T012548Z
LAST-MODIFIED:20260211T013827Z
UID:66288-1772869500-1772872200@portcredithockey.com
SUMMARY:PPW: B Pool 1st vs A Pool 2nd Semi Final
DESCRIPTION:
URL:https://portcredithockey.com/event/b-pool-1st-vs-a-pool-2nd-semi-final/
CATEGORIES:PCHA
END:VEVENT
BEGIN:VEVENT
DTSTART;TZID=America/Toronto:20260307T083500
DTEND;TZID=America/Toronto:20260307T221500
DTSTAMP:20260422T144338
CREATED:20260211T012813Z
LAST-MODIFIED:20260211T013839Z
UID:66290-1772872500-1772921700@portcredithockey.com
SUMMARY:PPW: A Pool 1st vs B Pool 2nd Semi Final
DESCRIPTION:
URL:https://portcredithockey.com/event/a-pool-1st-vs-b-pool-2nd-semi-final/
CATEGORIES:PCHA
END:VEVENT
BEGIN:VEVENT
DTSTART;VALUE=DATE:20260314
DTEND;VALUE=DATE:20260323
DTSTAMP:20260422T144338
CREATED:20260207T215240Z
LAST-MODIFIED:20260207T220024Z
UID:66231-1773446400-1774223999@portcredithockey.com
SUMMARY:March Break… (no MHL games)
DESCRIPTION:
URL:https://portcredithockey.com/event/march-break-no-mhl-games/
CATEGORIES:MHL
END:VEVENT
BEGIN:VEVENT
DTSTART;TZID=America/Toronto:20260321T083000
DTEND;TZID=America/Toronto:20260321T212000
DTSTAMP:20260422T144338
CREATED:20260211T013123Z
LAST-MODIFIED:20260211T013853Z
UID:66292-1774081800-1774128000@portcredithockey.com
SUMMARY:PPW: Little Stanley Cup Game 1
DESCRIPTION:
URL:https://portcredithockey.com/event/little-stanley-cup-game-1/
CATEGORIES:PCHA
END:VEVENT
BEGIN:VEVENT
DTSTART;VALUE=DATE:20260327
DTEND;VALUE=DATE:20260330
DTSTAMP:20260422T144338
CREATED:20260207T215504Z
LAST-MODIFIED:20260207T215504Z
UID:66234-1774569600-1774828799@portcredithockey.com
SUMMARY:House League Championship Weekend
DESCRIPTION:House League Championship Weekend (excluding Red)
URL:https://portcredithockey.com/event/house-league-championship-weekend/
CATEGORIES:MHL
END:VEVENT
BEGIN:VEVENT
DTSTART;TZID=America/Toronto:20260328T103000
DTEND;TZID=America/Toronto:20260328T112000
DTSTAMP:20260422T144338
CREATED:20260211T013244Z
LAST-MODIFIED:20260211T013927Z
UID:66294-1774693800-1774696800@portcredithockey.com
SUMMARY:PPW: Little Stanley Cup Game 2
DESCRIPTION:
URL:https://portcredithockey.com/event/little-stanley-cup-game-2/
CATEGORIES:PCHA
END:VEVENT
BEGIN:VEVENT
DTSTART;TZID=America/Toronto:20260329T153000
DTEND;TZID=America/Toronto:20260329T162000
DTSTAMP:20260422T144338
CREATED:20260211T013409Z
LAST-MODIFIED:20260328T161045Z
UID:66296-1774798200-1774801200@portcredithockey.com
SUMMARY:Flames vs Canucks - Little Stanley Cup Final Game
DESCRIPTION:
URL:https://portcredithockey.com/event/little-stanley-cup-game-3-if-required/
CATEGORIES:PCHA
END:VEVENT
END:VCALENDAR