BEGIN:VCALENDAR
VERSION:2.0
PRODID:-//Port Credit Hockey Association - ECPv6.15.20//NONSGML v1.0//EN
CALSCALE:GREGORIAN
METHOD:PUBLISH
X-ORIGINAL-URL:https://portcredithockey.com
X-WR-CALDESC:Events for Port Credit Hockey Association
REFRESH-INTERVAL;VALUE=DURATION:PT1H
X-Robots-Tag:noindex
X-PUBLISHED-TTL:PT1H
BEGIN:VTIMEZONE
TZID:America/Toronto
BEGIN:DAYLIGHT
TZOFFSETFROM:-0500
TZOFFSETTO:-0400
TZNAME:EDT
DTSTART:20250309T070000
END:DAYLIGHT
BEGIN:STANDARD
TZOFFSETFROM:-0400
TZOFFSETTO:-0500
TZNAME:EST
DTSTART:20251102T060000
END:STANDARD
BEGIN:DAYLIGHT
TZOFFSETFROM:-0500
TZOFFSETTO:-0400
TZNAME:EDT
DTSTART:20260308T070000
END:DAYLIGHT
BEGIN:STANDARD
TZOFFSETFROM:-0400
TZOFFSETTO:-0500
TZNAME:EST
DTSTART:20261101T060000
END:STANDARD
BEGIN:DAYLIGHT
TZOFFSETFROM:-0500
TZOFFSETTO:-0400
TZNAME:EDT
DTSTART:20270314T070000
END:DAYLIGHT
BEGIN:STANDARD
TZOFFSETFROM:-0400
TZOFFSETTO:-0500
TZNAME:EST
DTSTART:20271107T060000
END:STANDARD
END:VTIMEZONE
BEGIN:VEVENT
DTSTART;VALUE=DATE:20260228
DTEND;VALUE=DATE:20260301
DTSTAMP:20260422T184628
CREATED:20260212T013059Z
LAST-MODIFIED:20260212T013059Z
UID:66308-1772236800-1772323199@portcredithockey.com
SUMMARY:Red Division Playoffs Start
DESCRIPTION:
URL:https://portcredithockey.com/event/red-division-playoffs-start/
CATEGORIES:MHL
END:VEVENT
BEGIN:VEVENT
DTSTART;TZID=America/Toronto:20260307T074500
DTEND;TZID=America/Toronto:20260307T083000
DTSTAMP:20260422T184628
CREATED:20260211T012548Z
LAST-MODIFIED:20260211T013827Z
UID:66288-1772869500-1772872200@portcredithockey.com
SUMMARY:PPW: B Pool 1st vs A Pool 2nd Semi Final
DESCRIPTION:
URL:https://portcredithockey.com/event/b-pool-1st-vs-a-pool-2nd-semi-final/
CATEGORIES:PCHA
END:VEVENT
BEGIN:VEVENT
DTSTART;TZID=America/Toronto:20260307T083500
DTEND;TZID=America/Toronto:20260307T221500
DTSTAMP:20260422T184628
CREATED:20260211T012813Z
LAST-MODIFIED:20260211T013839Z
UID:66290-1772872500-1772921700@portcredithockey.com
SUMMARY:PPW: A Pool 1st vs B Pool 2nd Semi Final
DESCRIPTION:
URL:https://portcredithockey.com/event/a-pool-1st-vs-b-pool-2nd-semi-final/
CATEGORIES:PCHA
END:VEVENT
BEGIN:VEVENT
DTSTART;VALUE=DATE:20260314
DTEND;VALUE=DATE:20260323
DTSTAMP:20260422T184628
CREATED:20260207T215240Z
LAST-MODIFIED:20260207T220024Z
UID:66231-1773446400-1774223999@portcredithockey.com
SUMMARY:March Break… (no MHL games)
DESCRIPTION:
URL:https://portcredithockey.com/event/march-break-no-mhl-games/
CATEGORIES:MHL
END:VEVENT
BEGIN:VEVENT
DTSTART;TZID=America/Toronto:20260321T083000
DTEND;TZID=America/Toronto:20260321T212000
DTSTAMP:20260422T184628
CREATED:20260211T013123Z
LAST-MODIFIED:20260211T013853Z
UID:66292-1774081800-1774128000@portcredithockey.com
SUMMARY:PPW: Little Stanley Cup Game 1
DESCRIPTION:
URL:https://portcredithockey.com/event/little-stanley-cup-game-1/
CATEGORIES:PCHA
END:VEVENT
BEGIN:VEVENT
DTSTART;VALUE=DATE:20260327
DTEND;VALUE=DATE:20260330
DTSTAMP:20260422T184628
CREATED:20260207T215504Z
LAST-MODIFIED:20260207T215504Z
UID:66234-1774569600-1774828799@portcredithockey.com
SUMMARY:House League Championship Weekend
DESCRIPTION:House League Championship Weekend (excluding Red)
URL:https://portcredithockey.com/event/house-league-championship-weekend/
CATEGORIES:MHL
END:VEVENT
BEGIN:VEVENT
DTSTART;TZID=America/Toronto:20260328T103000
DTEND;TZID=America/Toronto:20260328T112000
DTSTAMP:20260422T184628
CREATED:20260211T013244Z
LAST-MODIFIED:20260211T013927Z
UID:66294-1774693800-1774696800@portcredithockey.com
SUMMARY:PPW: Little Stanley Cup Game 2
DESCRIPTION:
URL:https://portcredithockey.com/event/little-stanley-cup-game-2/
CATEGORIES:PCHA
END:VEVENT
BEGIN:VEVENT
DTSTART;TZID=America/Toronto:20260329T153000
DTEND;TZID=America/Toronto:20260329T162000
DTSTAMP:20260422T184628
CREATED:20260211T013409Z
LAST-MODIFIED:20260328T161045Z
UID:66296-1774798200-1774801200@portcredithockey.com
SUMMARY:Flames vs Canucks - Little Stanley Cup Final Game
DESCRIPTION:
URL:https://portcredithockey.com/event/little-stanley-cup-game-3-if-required/
CATEGORIES:PCHA
END:VEVENT
BEGIN:VEVENT
DTSTART;VALUE=DATE:20260403
DTEND;VALUE=DATE:20260406
DTSTAMP:20260422T184628
CREATED:20260207T215641Z
LAST-MODIFIED:20260207T215641Z
UID:66236-1775174400-1775433599@portcredithockey.com
SUMMARY:Easter Weekend… (no MHL games)
DESCRIPTION:
URL:https://portcredithockey.com/event/easter-weekend-no-mhl-games/
CATEGORIES:MHL
END:VEVENT
BEGIN:VEVENT
DTSTART;VALUE=DATE:20260410
DTEND;VALUE=DATE:20260412
DTSTAMP:20260422T184628
CREATED:20260207T215739Z
LAST-MODIFIED:20260212T013405Z
UID:66238-1775779200-1775951999@portcredithockey.com
SUMMARY:Championship Weekend for Red Divisions
DESCRIPTION:
URL:https://portcredithockey.com/event/championship-weekend-for-red-divisions/
CATEGORIES:MHL
END:VEVENT
BEGIN:VEVENT
DTSTART;VALUE=DATE:20260424
DTEND;VALUE=DATE:20260427
DTSTAMP:20260422T184628
CREATED:20260328T200811Z
LAST-MODIFIED:20260328T203013Z
UID:66752-1776988800-1777247999@portcredithockey.com
SUMMARY:CDP Tryouts Scheduled
DESCRIPTION:Team specific tryout information is found on our CDP Tryout and Registration Info.  page
URL:https://portcredithockey.com/event/cdp-tryouts/
CATEGORIES:PCHA
END:VEVENT
BEGIN:VEVENT
DTSTART;TZID=America/Toronto:20260425T103000
DTEND;TZID=America/Toronto:20260425T121500
DTSTAMP:20260422T184628
CREATED:20260212T011834Z
LAST-MODIFIED:20260212T041958Z
UID:66303-1777113000-1777119300@portcredithockey.com
SUMMARY:Paperweights Player Trophy Day
DESCRIPTION:
URL:https://portcredithockey.com/event/paperweights-player-trophy-day/
LOCATION:Huron Park Recreation Centre\, 830 Paisley Blvd W\,\, Mississauga\, ON\, Ontario\, L5C 3P5\, Canada
CATEGORIES:PCHA
END:VEVENT
BEGIN:VEVENT
DTSTART;TZID=America/Toronto:20260425T124500
DTEND;TZID=America/Toronto:20260425T143000
DTSTAMP:20260422T184628
CREATED:20260212T012127Z
LAST-MODIFIED:20260212T042057Z
UID:66305-1777121100-1777127400@portcredithockey.com
SUMMARY:U8-U13 Blue & White Player Trophy Day
DESCRIPTION:
URL:https://portcredithockey.com/event/u8-u13-blue-white-player-trophy-day/
LOCATION:Huron Park Recreation Centre\, 830 Paisley Blvd W\,\, Mississauga\, ON\, Ontario\, L5C 3P5\, Canada
CATEGORIES:PCHA
END:VEVENT
BEGIN:VEVENT
DTSTART;VALUE=DATE:20260502
DTEND;VALUE=DATE:20260508
DTSTAMP:20260422T184628
CREATED:20260207T215951Z
LAST-MODIFIED:20260328T202518Z
UID:66240-1777680000-1778198399@portcredithockey.com
SUMMARY:“A” Tryouts Scheduled
DESCRIPTION:Team specific tryout information is found on our ‘A’ Tryout and Registration Info. page
URL:https://portcredithockey.com/event/a-red-select-tryouts-begin/
CATEGORIES:PCHA
END:VEVENT
BEGIN:VEVENT
DTSTART;VALUE=DATE:20260509
DTEND;VALUE=DATE:20260513
DTSTAMP:20260422T184628
CREATED:20260328T200630Z
LAST-MODIFIED:20260328T203305Z
UID:66750-1778284800-1778630399@portcredithockey.com
SUMMARY:Red Select Tryouts
DESCRIPTION:Team specific tryout information is found on our Red Select Tryout and Registration Info. page
URL:https://portcredithockey.com/event/red-select-tryouts/
CATEGORIES:PCHA
END:VEVENT
END:VCALENDAR