BEGIN:VCALENDAR
VERSION:2.0
PRODID:-//Port Credit Hockey Association - ECPv6.15.20//NONSGML v1.0//EN
CALSCALE:GREGORIAN
METHOD:PUBLISH
X-WR-CALNAME:Port Credit Hockey Association
X-ORIGINAL-URL:https://portcredithockey.com
X-WR-CALDESC:Events for Port Credit Hockey Association
REFRESH-INTERVAL;VALUE=DURATION:PT1H
X-Robots-Tag:noindex
X-PUBLISHED-TTL:PT1H
BEGIN:VTIMEZONE
TZID:America/Toronto
BEGIN:DAYLIGHT
TZOFFSETFROM:-0500
TZOFFSETTO:-0400
TZNAME:EDT
DTSTART:20250309T070000
END:DAYLIGHT
BEGIN:STANDARD
TZOFFSETFROM:-0400
TZOFFSETTO:-0500
TZNAME:EST
DTSTART:20251102T060000
END:STANDARD
BEGIN:DAYLIGHT
TZOFFSETFROM:-0500
TZOFFSETTO:-0400
TZNAME:EDT
DTSTART:20260308T070000
END:DAYLIGHT
BEGIN:STANDARD
TZOFFSETFROM:-0400
TZOFFSETTO:-0500
TZNAME:EST
DTSTART:20261101T060000
END:STANDARD
BEGIN:DAYLIGHT
TZOFFSETFROM:-0500
TZOFFSETTO:-0400
TZNAME:EDT
DTSTART:20270314T070000
END:DAYLIGHT
BEGIN:STANDARD
TZOFFSETFROM:-0400
TZOFFSETTO:-0500
TZNAME:EST
DTSTART:20271107T060000
END:STANDARD
END:VTIMEZONE
BEGIN:VEVENT
DTSTART;VALUE=DATE:20260216
DTEND;VALUE=DATE:20260217
DTSTAMP:20260422T201004
CREATED:20260207T215120Z
LAST-MODIFIED:20260207T215333Z
UID:66229-1771200000-1771286399@portcredithockey.com
SUMMARY:Happy Family Day... (no MHL games)
DESCRIPTION:
URL:https://portcredithockey.com/event/happy-family-day-no-mhl-games/
CATEGORIES:MHL
END:VEVENT
BEGIN:VEVENT
DTSTART;VALUE=DATE:20260215
DTEND;VALUE=DATE:20260216
DTSTAMP:20260422T201004
CREATED:20260207T213240Z
LAST-MODIFIED:20260207T222434Z
UID:66222-1771113600-1771199999@portcredithockey.com
SUMMARY:A and Red coaching announcements can begin
DESCRIPTION:First date for posting “A” and “Red” Coaches info for 2025-26
URL:https://portcredithockey.com/event/a-and-red-coaches/
CATEGORIES:MHL
END:VEVENT
BEGIN:VEVENT
DTSTART;VALUE=DATE:20260214
DTEND;VALUE=DATE:20260217
DTSTAMP:20260422T201004
CREATED:20260207T215011Z
LAST-MODIFIED:20260207T215024Z
UID:66227-1771027200-1771286399@portcredithockey.com
SUMMARY:Final weekend for Tournament Exemptions
DESCRIPTION:
URL:https://portcredithockey.com/event/final-weekend-for-tournament-exemptions/
CATEGORIES:MHL
END:VEVENT
BEGIN:VEVENT
DTSTART;VALUE=DATE:20260207
DTEND;VALUE=DATE:20260208
DTSTAMP:20260422T201004
CREATED:20260207T214845Z
LAST-MODIFIED:20260212T012939Z
UID:66225-1770422400-1770508799@portcredithockey.com
SUMMARY:House League Playoffs Start
DESCRIPTION:
URL:https://portcredithockey.com/event/mhl-playoffs-start/
CATEGORIES:MHL
END:VEVENT
END:VCALENDAR