BEGIN:VCALENDAR
VERSION:2.0
PRODID:-//Port Credit Hockey Association - ECPv6.15.20//NONSGML v1.0//EN
CALSCALE:GREGORIAN
METHOD:PUBLISH
X-WR-CALNAME:Port Credit Hockey Association
X-ORIGINAL-URL:https://portcredithockey.com
X-WR-CALDESC:Events for Port Credit Hockey Association
REFRESH-INTERVAL;VALUE=DURATION:PT1H
X-Robots-Tag:noindex
X-PUBLISHED-TTL:PT1H
BEGIN:VTIMEZONE
TZID:America/Toronto
BEGIN:DAYLIGHT
TZOFFSETFROM:-0500
TZOFFSETTO:-0400
TZNAME:EDT
DTSTART:20250309T070000
END:DAYLIGHT
BEGIN:STANDARD
TZOFFSETFROM:-0400
TZOFFSETTO:-0500
TZNAME:EST
DTSTART:20251102T060000
END:STANDARD
BEGIN:DAYLIGHT
TZOFFSETFROM:-0500
TZOFFSETTO:-0400
TZNAME:EDT
DTSTART:20260308T070000
END:DAYLIGHT
BEGIN:STANDARD
TZOFFSETFROM:-0400
TZOFFSETTO:-0500
TZNAME:EST
DTSTART:20261101T060000
END:STANDARD
BEGIN:DAYLIGHT
TZOFFSETFROM:-0500
TZOFFSETTO:-0400
TZNAME:EDT
DTSTART:20270314T070000
END:DAYLIGHT
BEGIN:STANDARD
TZOFFSETFROM:-0400
TZOFFSETTO:-0500
TZNAME:EST
DTSTART:20271107T060000
END:STANDARD
END:VTIMEZONE
BEGIN:VEVENT
DTSTART;TZID=America/Toronto:20260221T180000
DTEND;TZID=America/Toronto:20260222T010000
DTSTAMP:20260422T171254
CREATED:20260207T220220Z
LAST-MODIFIED:20260207T222907Z
UID:66242-1771696800-1771722000@portcredithockey.com
SUMMARY:Storm By The Port Adult Dinner and Dance
DESCRIPTION:Ticket arrangement to be made by your team\, please speak with your Coach and or Manager \n \nEach table seats 10 \nAmazing Door Prizes \nOrder early to ensure everyone on the team can be accommodated at the team table(s)
URL:https://portcredithockey.com/event/storm-by-the-port-adult-dinner-and-dance/
LOCATION:Oasis Convention Centre\, 1036 Lakeshore Rd. East\, Mississauga\, Ont\, Canada
CATEGORIES:PCHA
END:VEVENT
END:VCALENDAR